BEGIN:VCALENDAR
VERSION:2.0
PRODID:-//wp-events-plugin.com//6.5//EN
BEGIN:VEVENT
UID:33-10697@newyork.swea.org
DTSTART;TZID=America/New_York:20260527T180000
DTEND;TZID=America/New_York:20260527T200000
DTSTAMP:20260420T002229Z
URL:https://newyork.swea.org/events/besok-hos-var-swea-konservator-celia-r
 awson-pa-pictura-conservation/
SUMMARY:Besök hos vår Swea konservator Celia Rawson på Pictura Conservat
 ion\,
DESCRIPTION:Mer info kommer snart
CATEGORIES:SWEA event
END:VEVENT
BEGIN:VTIMEZONE
TZID:America/New_York
X-LIC-LOCATION:America/New_York
BEGIN:DAYLIGHT
DTSTART:20260308T030000
TZOFFSETFROM:-0500
TZOFFSETTO:-0400
TZNAME:EDT
END:DAYLIGHT
END:VTIMEZONE
END:VCALENDAR