BEGIN:VCALENDAR
VERSION:2.0
PRODID:-//wp-events-plugin.com//6.5//EN
BEGIN:VEVENT
UID:33-10695@newyork.swea.org
DTSTART;TZID=America/New_York:20260512T170000
DTEND;TZID=America/New_York:20260512T193000
DTSTAMP:20260420T001900Z
URL:https://newyork.swea.org/events/besok-hos-var-swea-monika-knutssons-sm
 yckesstudio-kl-17-19-30/
SUMMARY:Besök hos vår Swea Monika Knutssons smyckesstudio\, kl 17-19.30
DESCRIPTION:Mer info kommer snart
CATEGORIES:SWEA event
END:VEVENT
BEGIN:VTIMEZONE
TZID:America/New_York
X-LIC-LOCATION:America/New_York
BEGIN:DAYLIGHT
DTSTART:20260308T030000
TZOFFSETFROM:-0500
TZOFFSETTO:-0400
TZNAME:EDT
END:DAYLIGHT
END:VTIMEZONE
END:VCALENDAR