BEGIN:VCALENDAR
VERSION:2.0
PRODID:-//wp-events-plugin.com//6.5//EN
BEGIN:VEVENT
UID:33-10696@newyork.swea.org
DTSTART;TZID=America/New_York:20260519T130000
DTEND;TZID=America/New_York:20260519T150000
DTSTAMP:20260420T002023Z
URL:https://newyork.swea.org/events/sound-bath-med-var-swea-eva-engman-i-m
 ichaelas-tradgard/
SUMMARY:Sound Bath med vår Swea Eva Engman i Michaelas trädgård.
DESCRIPTION:Mer info kommer snart
CATEGORIES:SWEA event
END:VEVENT
BEGIN:VTIMEZONE
TZID:America/New_York
X-LIC-LOCATION:America/New_York
BEGIN:DAYLIGHT
DTSTART:20260308T030000
TZOFFSETFROM:-0500
TZOFFSETTO:-0400
TZNAME:EDT
END:DAYLIGHT
END:VTIMEZONE
END:VCALENDAR